BEGIN:VCALENDAR
VERSION:2.0
PRODID:-//Ambrugeat - ECPv6.15.17.1//NONSGML v1.0//EN
CALSCALE:GREGORIAN
METHOD:PUBLISH
X-ORIGINAL-URL:https://ambrugeat.fr
X-WR-CALDESC:Évènements pour Ambrugeat
REFRESH-INTERVAL;VALUE=DURATION:PT1H
X-Robots-Tag:noindex
X-PUBLISHED-TTL:PT1H
BEGIN:VTIMEZONE
TZID:Europe/Paris
BEGIN:DAYLIGHT
TZOFFSETFROM:+0100
TZOFFSETTO:+0200
TZNAME:CEST
DTSTART:20230326T010000
END:DAYLIGHT
BEGIN:STANDARD
TZOFFSETFROM:+0200
TZOFFSETTO:+0100
TZNAME:CET
DTSTART:20231029T010000
END:STANDARD
BEGIN:DAYLIGHT
TZOFFSETFROM:+0100
TZOFFSETTO:+0200
TZNAME:CEST
DTSTART:20240331T010000
END:DAYLIGHT
BEGIN:STANDARD
TZOFFSETFROM:+0200
TZOFFSETTO:+0100
TZNAME:CET
DTSTART:20241027T010000
END:STANDARD
BEGIN:DAYLIGHT
TZOFFSETFROM:+0100
TZOFFSETTO:+0200
TZNAME:CEST
DTSTART:20250330T010000
END:DAYLIGHT
BEGIN:STANDARD
TZOFFSETFROM:+0200
TZOFFSETTO:+0100
TZNAME:CET
DTSTART:20251026T010000
END:STANDARD
END:VTIMEZONE
BEGIN:VEVENT
DTSTART;TZID=Europe/Paris:20240323T203000
DTEND;TZID=Europe/Paris:20240323T230000
DTSTAMP:20260424T192914
CREATED:20240323T171239Z
LAST-MODIFIED:20240323T171257Z
UID:987507869-1711225800-1711234800@ambrugeat.fr
SUMMARY:Week-end qui s'exprime - Concert La Bricole
DESCRIPTION:CONCERT // samedi 23 mars // 20 h 30 // La Bricole – Un Voyage Musical Évocateur \nPlongez dans l’atmosphère envoûtante du port de Boulogne-sur-Mer avec La Bricole. Le groupe emporte son public à travers les chansons inspirées des gens de mer\, des aventures maritimes\, et des influences lointaines. \nDes sons des Antilles aux récits de corsaires\, chaque note est une invitation au voyage. \nPréparez-vous pour cette escapade musicale : découvrez les artistes sur leur chaîne YouTube \nParticipation libre.
URL:https://ambrugeat.fr/agenda/week-end-qui-sexprime-concert-la-bricole/
LOCATION:La maison sur la place\, 5 rue Saint-Salvy\, Ambrugeat\, 19250\, France
CATEGORIES:Concert,Musique,Soirée
ATTACH;FMTTYPE=image/webp:https://ambrugeat.fr/wp-content/uploads/2024/03/La-bricole.webp
ORGANIZER;CN="La maison sur la place":MAILTO:lamaisonsurlaplace.ambrugeat@gmail.com
END:VEVENT
BEGIN:VEVENT
DTSTART;TZID=Europe/Paris:20240330T203000
DTEND;TZID=Europe/Paris:20240330T230000
DTSTAMP:20260424T192914
CREATED:20240323T163653Z
LAST-MODIFIED:20240323T164050Z
UID:987507861-1711830600-1711839600@ambrugeat.fr
SUMMARY:Week-end qui s'exprime : scène ouverte
DESCRIPTION:« Le Week-end qui s’Exprime » à La Maison sur la Place : Partagez Vos Coups de Cœur en Musique et en Mots \nL’association La Maison sur la Place vous convie à une soirée exceptionnelle placée sous le signe de l’expression et du partage. Rendez-vous le samedi 30 mars à 20 h 30 pour une thématique unique intitulée « Le Week-end qui s’Exprime ». Cette soirée promet d’être un véritable festin artistique où vous pourrez partager vos coups de cœur à travers la musique\, la lecture et le chant. \nChacun est invité à apporter ses pépites favorites\, ces moments musicaux\, ces passages de livres ou ces chansons qui résonnent particulièrement en eux. Que ce soit une mélodie qui a marqué votre vie\, un passage de votre livre préféré ou des paroles qui vous touchent profondément\, ce sera l’occasion de les partager avec un public bienveillant et passionné. \nLa Maison sur la Place se transformera en un espace d’expression\, où la diversité des goûts et des inspirations créeront une véritable symphonie d’émotions. Que vous souhaitiez interpréter votre morceau préféré\, lire un extrait marquant ou chanter une chanson qui vous fait vibrer\, cette soirée est la vôtre. \nL’objectif de cette thématique est de créer un moment d’intimité artistique\, où chacun peut se dévoiler à travers ses choix et ses passions. C’est aussi une occasion d’échanger et de découvrir de nouvelles œuvres qui pourront peut-être devenir les futurs coups de cœur de tous. \nMarquez le 30 novembre dans votre agenda\, préparez vos interprétations et rejoignez-nous à La Maison sur la Place pour « Le Week-end qui s’Exprime ». Ensemble\, partageons nos passions\, nos émotions et nos inspirations\, pour une soirée mémorable placée sous le signe de l’art et du partage.
URL:https://ambrugeat.fr/agenda/week-end-qui-sexprime-scene-ouverte-2/
LOCATION:La maison sur la place\, 5 rue Saint-Salvy\, Ambrugeat\, 19250\, France
CATEGORIES:Chant,Lecture,Musique
ATTACH;FMTTYPE=image/webp:https://ambrugeat.fr/wp-content/uploads/2022/11/Logo-la-maison-sur-la-place.webp
ORGANIZER;CN="La maison sur la place":MAILTO:lamaisonsurlaplace.ambrugeat@gmail.com
END:VEVENT
END:VCALENDAR